BEGIN:VCALENDAR
VERSION:2.0
PRODID:-//Oxford Ceramics Group - ECPv6.15.20//NONSGML v1.0//EN
CALSCALE:GREGORIAN
METHOD:PUBLISH
X-ORIGINAL-URL:https://www.oxfordceramicsgroup.org.uk
X-WR-CALDESC:Events for Oxford Ceramics Group
REFRESH-INTERVAL;VALUE=DURATION:PT1H
X-Robots-Tag:noindex
X-PUBLISHED-TTL:PT1H
BEGIN:VTIMEZONE
TZID:Europe/London
BEGIN:DAYLIGHT
TZOFFSETFROM:+0000
TZOFFSETTO:+0100
TZNAME:BST
DTSTART:20250330T010000
END:DAYLIGHT
BEGIN:STANDARD
TZOFFSETFROM:+0100
TZOFFSETTO:+0000
TZNAME:GMT
DTSTART:20251026T010000
END:STANDARD
BEGIN:DAYLIGHT
TZOFFSETFROM:+0000
TZOFFSETTO:+0100
TZNAME:BST
DTSTART:20260329T010000
END:DAYLIGHT
BEGIN:STANDARD
TZOFFSETFROM:+0100
TZOFFSETTO:+0000
TZNAME:GMT
DTSTART:20261025T010000
END:STANDARD
BEGIN:DAYLIGHT
TZOFFSETFROM:+0000
TZOFFSETTO:+0100
TZNAME:BST
DTSTART:20270328T010000
END:DAYLIGHT
BEGIN:STANDARD
TZOFFSETFROM:+0100
TZOFFSETTO:+0000
TZNAME:GMT
DTSTART:20271031T010000
END:STANDARD
END:VTIMEZONE
BEGIN:VEVENT
DTSTART;VALUE=DATE:20260901
DTEND;VALUE=DATE:20260902
DTSTAMP:20260425T123336
CREATED:20260405T190954Z
LAST-MODIFIED:20260405T190954Z
UID:727-1788220800-1788307199@www.oxfordceramicsgroup.org.uk
SUMMARY:Visit to Exeter College and the Oxford Union
DESCRIPTION:We are delighted to announce a private visit to the University of Oxford Exeter College and the Oxford Union. \nThe visit will be in September\, and the date and further details will be published as soon as they have been confirmed.
URL:https://www.oxfordceramicsgroup.org.uk/event/visit-to-exeter-college-and-the-oxford-union/
LOCATION:Exeter College\, Turl Street\, Oxford\, OX1 3DP\, United Kingdom
ATTACH;FMTTYPE=image/jpeg:https://www.oxfordceramicsgroup.org.uk/wordpress/wp-content/uploads/2026/04/Exeter-College.jpg
END:VEVENT
END:VCALENDAR